BEGIN:VCALENDAR
VERSION:2.0
PRODID:-//HART voor de GGZ - ECPv5.2.1.1//NONSGML v1.0//EN
CALSCALE:GREGORIAN
METHOD:PUBLISH
X-WR-CALNAME:HART voor de GGZ
X-ORIGINAL-URL:https://www.hartvoordeggz.nl
X-WR-CALDESC:Evenementen voor HART voor de GGZ
BEGIN:VTIMEZONE
TZID:UTC
BEGIN:STANDARD
TZOFFSETFROM:+0000
TZOFFSETTO:+0000
TZNAME:UTC
DTSTART:20180101T000000
END:STANDARD
END:VTIMEZONE
BEGIN:VEVENT
DTSTART;TZID=UTC:20180906T143000
DTEND;TZID=UTC:20180906T170000
DTSTAMP:20260419T231801
CREATED:20180808T163403Z
LAST-MODIFIED:20180816T162942Z
UID:2629-1536244200-1536253200@www.hartvoordeggz.nl
SUMMARY:Lezing HART voor HERSTEL bij Lister
DESCRIPTION:Lister nodigt je uit voor een bruisende inspiratiesessie  HART voor HERSTEL  \nmet  sprekers Remke van Staveren   |   Martijn Kole   | in dialoog met deelnemers \nDonderdag 6 september | 15.30 – 17.30  |  Vechtclub XL | Europalaan  2B  Utrecht \nEntree is gratis  |  én je krijgt het boek !       Welkom | Aanmelden via info@lister.nl \n\nOp 6 september komt Remke van Staveren\, auteur van het uitdagende boek Hart voor Herstel\, met ons nadenken over hoe we met alle betrokkenen samen kunnen werken aan herstel. Op 6 september is iedereen van 14:30 tot 17:00 van harte welkom! \nWe hopen dat er veel mensen kunnen en willen komen. Van herstelcoaches\, peerworkers\, cliënten\, staf\, leidinggevenden\, familie en naastbetrokkenen tot bijvoorbeeld medewerkers van Altrecht met wie wij samenwerken in de wijkteams. Iedereen is welkom. \nKom zelf en nodig ook vooral mensen uit waarvan u het goed en leuk vindt dat ze ook komen. Informatie over aanmelden en de locatie (op een centrale plaats in Utrecht) volgt nog!
URL:https://www.hartvoordeggz.nl/agenda/lezing-hart-voor-herstel-bij-lister-2/
END:VEVENT
END:VCALENDAR