BEGIN:VCALENDAR
VERSION:2.0
PRODID:-//HART voor de GGZ - ECPv5.2.1.1//NONSGML v1.0//EN
CALSCALE:GREGORIAN
METHOD:PUBLISH
X-WR-CALNAME:HART voor de GGZ
X-ORIGINAL-URL:https://www.hartvoordeggz.nl
X-WR-CALDESC:Evenementen voor HART voor de GGZ
BEGIN:VTIMEZONE
TZID:UTC
BEGIN:STANDARD
TZOFFSETFROM:+0000
TZOFFSETTO:+0000
TZNAME:UTC
DTSTART:20180101T000000
END:STANDARD
END:VTIMEZONE
BEGIN:VEVENT
DTSTART;TZID=UTC:20181016T120000
DTEND;TZID=UTC:20181016T130000
DTSTAMP:20260419T213824
CREATED:20181014T151831Z
LAST-MODIFIED:20181014T152419Z
UID:2729-1539691200-1539694800@www.hartvoordeggz.nl
SUMMARY:Lunch sessie Herstelondersteunend werken GGZ C Flevoland
DESCRIPTION:Lunch sessies “Herstelondersteunend werken” bij GGZ Centraal Flevoland \nDinsdag 9 oktober 12-13u: Meregaard Almere \nDinsdag 16 oktober 12-13u Meerzicht Lelystad \nToegang is gratis voor GGZ C medewerkers (met boek HART voor HERSTEL) \n 
URL:https://www.hartvoordeggz.nl/agenda/lunch-sessie-herstelondersteunend-werken-ggz-c-flevoland/
END:VEVENT
END:VCALENDAR