BEGIN:VCALENDAR
VERSION:2.0
PRODID:-//HART voor de GGZ - ECPv5.2.1.1//NONSGML v1.0//EN
CALSCALE:GREGORIAN
METHOD:PUBLISH
X-WR-CALNAME:HART voor de GGZ
X-ORIGINAL-URL:https://www.hartvoordeggz.nl
X-WR-CALDESC:Evenementen voor HART voor de GGZ
BEGIN:VTIMEZONE
TZID:UTC
BEGIN:STANDARD
TZOFFSETFROM:+0000
TZOFFSETTO:+0000
TZNAME:UTC
DTSTART:20180101T000000
END:STANDARD
END:VTIMEZONE
BEGIN:VEVENT
DTSTART;VALUE=DATE:20180921
DTEND;VALUE=DATE:20180924
DTSTAMP:20260419T213119
CREATED:20180808T172607Z
LAST-MODIFIED:20180810T171326Z
UID:2642-1537488000-1537747199@www.hartvoordeggz.nl
SUMMARY:Socialrun!
DESCRIPTION:HART voor de GGZ is samen met PsychoseNet trotse sponsor van Socialrun team HART voor HERSTEL! De Socialrun? \nWaarom? Omdat het hebben van psychische klachten nog steeds niet net zo normaal en geaccepteerd is als het hebben van lichamelijke klachten. Omdat veel mensen met psychische klachten moeite hebben om mee te doen in de maatschappij\, terwijl: #meedoeniswinnen. \nWat? De Socialrun is een non-stop sponsorloop van 555km in 48uur rond het IJsselmeer om geld op te halen voor kleine\, herstelondersteunende doelen. \nHoe? Op vrijdag 21 september gaan we van start en we stoppen pas als alle 555km gelopen zijn (we hopen zondag 23 september de eindstreep te halen). \nWie? Jij en ik natuurlijk! Doe mee\, loop mee\, fiets mee\, ondersteun mee\, en doneer wat je missen kan voor dit goede doel. Alle beetjes helpen! \n 
URL:https://www.hartvoordeggz.nl/agenda/socialrun/
ATTACH;FMTTYPE=image/jpeg:https://www.hartvoordeggz.nl/wp-content/uploads/2018/03/Socialrun.jpg
END:VEVENT
END:VCALENDAR